BEGIN:VCALENDAR
VERSION:2.0
PRODID:-//טלי בצלאל-שושני - שרה ומשחקת בדרך - ECPv4.0.4//NONSGML v1.0//EN
CALSCALE:GREGORIAN
METHOD:PUBLISH
X-WR-CALNAME:טלי בצלאל-שושני - שרה ומשחקת בדרך
X-ORIGINAL-URL:https://www.talibs.co.il
X-WR-CALDESC:Events for טלי בצלאל-שושני - שרה ומשחקת בדרך
BEGIN:VEVENT
DTSTART;TZID="UTC+0":20210428T080000
DTEND;TZID="UTC+0":20210430T170000
DTSTAMP:20210505T214401
CREATED:20210306T085624
LAST-MODIFIED:20210321T151921
UID:8992-1619596800-1619802000@www.talibs.co.il
SUMMARY:שלושה ימים מרתקים בגליל העליון
DESCRIPTION:...ולמרות הכול: הזמנה לנשום אויר בגליל באוטובוס המחוסנים!\n\nחוויות המזומנות לנו ביום הראשון יום רביעי 28.4.21:\n\nטיילת נחל ציפורי היא אחת היפות בארץ.\n\nטיול מונגש וקסום מכפר ראס עלי אל טחנת הנזירים\, לצד הנחל הזורם... הטיילת היא חלק משביל הסנהדרין.\n\nנמשיך לעסוק ביישוב היהודי שלאחר מרד בר כוכבא- בביקור בבית הכנסת הקדום של נבוריה: מי בנו את בית הכנסת הזה ומתי? דרך בית הכנסת נאיר תקופה מרתקת בתולדות עמנו. נבקר ב"שביל הנהר הנעלם" ולקינוח היום- נגיע אל האתר הדרוזי "נבי יהודה". נפגוש שם את סלמן אשר יוסיף גם את סיפורו האישי.\n\nלאחר השקיעה נגיע אל מלון ארזים המשפחתי והמחבק במטולה. \n\nחוויות היום השני יום חמישי 29.4.21:\n\nנפתח את הבקר בסיור בחלק הצפוני של המושבה מטולה. נלך רגלית אל הכניסה הצפונית אל שמורת נחל עיון.\n\nלאורך הדרך ומפלי התנור נדבר על בריחת לישנסקי ועל הברחת העולים מעיראק. (למתקשים בהליכה – אגיש חלק מן הסיפורים בטיילת מטולה מעל העיון\, וחלק בהליכה מן הכניסה התחתונה לעבר מפל התנור ובחזרה).\n\nבתצפית מרגשת ממרום קיבוץ משגב עם\, נעסוק בהרחבה בגבול הצפון - איך נקבע הגבול? איך זה השפיע עלינו?\n\nליד האריה של תל חי\, נכיר את הזווית הערבית והבלתי מוכרת של הסיפור.\n\nנבקר באנדרטת אסון המסוקים\, נראה בכפר סאלד – פסלי גרוטאות חקלאיות\,\n\nבחורבת דרדרה – נעסוק בסיפורה הכואב ונקנח את היום בקפה ועוגיות.\n\nחוויות היום השלישי יום שישי 30.4.21:\n\nנסייר בקרית שמונה הלא-מוכרת: נבקר בארמון של משפחת אל-יוסף\, ב"פארק הזהב" – מעיין ונחל בלב קריית שמונה. דרכו נכיר את תולדות מעברת חלסה והעיר הצפונית. אשחק דמויות מיוחדות שיספרו על הימים הראשונים במעברה\, ועל מפח הנפש במפגש עם הישראלים הוותיקים.\n\nנמשיך אל גשר יוסף. נרד להתהלך לצד הירדן בטיילת עמי. נלך לאורכה עד מפל קטן. ניווכח שיש סיבה לקרוא לירדן –"נהר".\n\nנבקר בנקיקי יפתח. תופעת טבע קסומה.\n\nלמרגלות האלה האטלנטית נאכל ארוחת צהריים\, ובעת שתמר תארגן את הארוחה – אספר על מכרות הברזל שכמעט והפכו את ישראל למיליונרית... ועל האכזבה הגדולה.\n\nלסיום היום – נבקר ביקב נעמן\, מן המשובחים בארץ\, נטעם יינות\, נשמע את סיפורם של רמי ובטינה\, נבקר בביתם ובו נראה פסלים שיצרה בטינה ונשמע מהי ארכיטקטורה גלילית\, כשלמרגלותינו – נוף עוצר נשימה\, ממרומי רמות נפתלי לעבר עמק החולה.\n\nמחיר:\n\nלאדם בחדר לשניים: 1350 ש"ח\n\nמתוך זה – 1200 ש"ח באתר ועוד 150 ש"ח במזומן\n\nתוספת לאדם בחדר ליחיד: 290 ש"ח לשני לילות\n\nארוחות:\n\nביום רביעי 28.4 – ארוחת בוקר עצמאית (בקניון ג'י ביוקנעם) ואפשר להביא מן הבית\n\n \tארוחת צהריים - עצמאית - יש להביא מן הבית !!\n \tארוחת ערב - תגיש תמר הנהגת\n\nביום חמישי 29.4 - ארוחת בוקר במלון\n\n \tארוחת צהריים עצמאית: בגן הצפון (אפשר לקנות במקום)\n \tארוחת ערב: במלון\n\nביום שישי 30.4 - ארוחת בוקר במלון\n\nארוחת צהריים: תבשל תמר הנהגת.\n\nנקודות איסוף:\n\nלטרון\, ראשון לציון (אבי האסירים) ותל אביב (ליד רכבת סבידור) ולאורך ציר הנסיעה צפונה.\n\nהפיזור – אל נקודות האיסוף. נעזור בהגעה אל נקודות מרכזיות (נשוב בשבת בערב!)\n\nחובת המשתתפים:\n\nלבוא בבגדים מתקלפים.\n\nלהצטייד במי שתיה ליום הראשון (מי הברז במטולה הם מי מעיין)\, ובאוכל\, ככתוב לעיל\, ליום הראשון.\n\nלבוא בנעליים שטוחות ולא מוגבהות = נעלי הליכה.\n\nכובע\, קרם הגנה נגד שמש – מהבית.\n\nמי שיכול – כלי אוכל רב פעמיים מלאים – לשתי ארוחות.\n\nכיסא נייד – מאוד מומלץ !!\n\nלשלוח מראש (ולקחת צילום בנייד) - אישור על שני חיסוני קורונה או תעודת מחלים מקורונה.\n\nהיציאה: על פי הנחיות התו הסגול !!\n\nשימו לב: ייתכנו שינויים והתאמות במסלול
URL:https://www.talibs.co.il/event/%d7%a9%d7%9c%d7%95%d7%a9%d7%94-%d7%99%d7%9e%d7%99%d7%9d-%d7%9e%d7%a8%d7%aa%d7%a7%d7%99%d7%9d-%d7%91%d7%92%d7%9c%d7%99%d7%9c-%d7%94%d7%a2%d7%9c%d7%99%d7%95%d7%9f/
CATEGORIES:אירועים קרובים,המיוחדים של טלי
END:VEVENT
END:VCALENDAR