BEGIN:VCALENDAR
VERSION:2.0
PRODID:-//טלי בצלאל-שושני - שרה ומשחקת בדרך - ECPv4.0.4//NONSGML v1.0//EN
CALSCALE:GREGORIAN
METHOD:PUBLISH
X-WR-CALNAME:טלי בצלאל-שושני - שרה ומשחקת בדרך
X-ORIGINAL-URL:https://www.talibs.co.il
X-WR-CALDESC:Events for טלי בצלאל-שושני - שרה ומשחקת בדרך
BEGIN:VEVENT
DTSTART;TZID="UTC+0":20170905T080000
DTEND;TZID="UTC+0":20170905T170000
DTSTAMP:20210514T103349
CREATED:20170905T181449
LAST-MODIFIED:20170905T181449
UID:4127-1504598400-1504630800@www.talibs.co.il
SUMMARY:רוח הקודש בדרך ציון
DESCRIPTION:ירושלים – מוקד משיכה לשלוש דתות.\n\nמה סוד קדושתה ?  האם יש משותף בתפילות היהודים\, הנוצרים והמוסלמים ?\n\nהאם מתוך האמנות המעטרת את המבנים נוכל ללמוד על התפיסה הדתית ?\n\nבמהלך הטיול – נתייחס אל התפילה באסלאם מתוך ביקור במסגד אבו גוש ושיחה עם האימאם\,\n\nנדבר על הגעגוע אל ירושלים ונבקר במרכז מורשת יהדות צפון אפריקה\, שכונה קטנטונת המאירה את ירושלים היוצאת מן החומות\, ובכמה אתרים נוצריים.\n\nהחלק הנוצרי בטיול ייבנה בבחירה מן המוקדים הבאים:\n\nמערת צדקיהו וסיפורם של הבונים החופשיים (בתשלום)\n\nכנסיית דורמיציון בהר ציון והתייחסות לדמותה של מרים אם ישוע באמנות ובליטורגיקה.\n\nכנסיית הגואל והתייחסות לדמותו של ישוע בליטורגיקה הנוצרית. \n\nנפגש לבקור בבית ההארחה של נוטר-דם דה פראנס.\n\nנשמע על הנזירים ממסדר "הלגיונרים של המשיח" ופועלם  בעולם.\n\nבמרכז התפילה בבית הבפטיסטי נפגוש בזוג\, בוב וסוזן: בוב יספר על המושבה האמריקנית\, וישיר באוזנינו שיר מיוחד שכתב הורציו ספאפורד\, כשרעייתו סוזן מלווה בפסנתר. לאחר מכן נעלה אל חדר התפילה ונתרכז בשקט וברוגע שמשרה החדר.\n\nמשך הטיול: עד יום מלא\n\nמחיר ההדרכה: 1850 כולל מע"מ\, לא כולל כניסות\n\nבמסגד אבו-גוש מבקשים תרומה.\n\nבמערת צדקיהו – מחיר כניסה \n\nדרגת קושי:  הליכה קלה\n\nתנאים מיוחדים:  בגדים צנועים. \n\nנדרשים הקשבה ושקט\, בגדים צנועים וכן כבוד ורגישות כלפי מאמינים שנפגוש.
URL:https://www.talibs.co.il/event/%d7%a8%d7%95%d7%97-%d7%94%d7%a7%d7%95%d7%93%d7%a9-%d7%91%d7%93%d7%a8%d7%9a-%d7%a6%d7%99%d7%95%d7%9f/
CATEGORIES:המיוחדים של טלי,טיולי נשים,טיולים לחברות וארגונים
END:VEVENT
END:VCALENDAR