BEGIN:VCALENDAR
VERSION:2.0
PRODID:-//טלי בצלאל-שושני - שרה ומשחקת בדרך - ECPv4.0.4//NONSGML v1.0//EN
CALSCALE:GREGORIAN
METHOD:PUBLISH
X-WR-CALNAME:טלי בצלאל-שושני - שרה ומשחקת בדרך
X-ORIGINAL-URL:https://www.talibs.co.il
X-WR-CALDESC:Events for טלי בצלאל-שושני - שרה ומשחקת בדרך
BEGIN:VEVENT
DTSTART;TZID="UTC+0":20180420T080000
DTEND;TZID="UTC+0":20180420T170000
DTSTAMP:20211004T164652
CREATED:20180310T173505
LAST-MODIFIED:20180416T211627
UID:5348-1524211200-1524243600@www.talibs.co.il
SUMMARY:עצמאות 2018
DESCRIPTION:ירושלים רעבה... "ההר אפל הרחוב שחור\, העיר גוועת במצור\, אין לחם אין\, אין כלום". אין מים. מה נשאר בחנויות? מה זה אומר – עיר במצור?\n\nלוותר עליה? בא בחשבון? מה עושים? מאה אלף איש בסכנת חיים.\n\nנייחד את יום העצמאות הזה ל"דרך בורמה".\n\nמזכרת בתיה\, עינות סוסין\, עין חילו\, דרך הסרפנטינות\, ההוצאה להורג של מאיר טוביאנסקי\, מחלקת ההר\, יפה ירקוני.\n\nיום עצמאות של הבחורות (ה-יצחקות)\, של נתיבה בקולה המחוספס\, של הבחורים הנושאים על גבם את שקי המזון\,  של קו השילוח וכביש הגבורה\, של גיבורים - כמו פוזה - הנער יפה הבלורית\, אהבותיו וסיפור חייו\, של ג'ימי\, שהוא גם משורר נסתר וגם כנר\, של  מיקי סטון\, שהבטחנו לזכור ולא לשכוח...\n\nיום עצמאות של שירי הלב ההם שאין כמותם.\n\nניסע בדרכי עפר\, (מי שירצו יוכלו גם קצת ללכת ברגל\, האחרים ימשיכו בנסיעה קצרה)\, נעצור לספר בנקודות מפתח\, נתפעם מתצפיות מרגשות\, נצחק מן הצ'יזבאטים\, ונשחזר את הווי הימים ההם: את הביטויים\, ההתלבטויות וכמובן את השירים.\n\nמחיר הטיול: 135 ש"ח באתר. 145 ש"ח תשלום בעזרת ענת.\n\nהטיול יכלול סעודה כיד הבישול הטובה של תמר שלנו.\n\nמחיר הסעודה : 60 ₪.\n\n09:10 יציאה מתל אביב - תחנת רכבת ארלוזרוב (איסוף על דרך נמיר בתחנת אוטובוס הצפונית ביותר)\n\n09:25 קניון בת ים\n\n09:55 לטרון\n\nלא נעבור לעוד לאיסופים בדרך. אפשר להשאיר רכבים בלטרון.\n\nחזרה לכל המאוחר בשעה 18:00 בתל אביב. 
URL:https://www.talibs.co.il/event/%d7%a2%d7%a6%d7%9e%d7%90%d7%95%d7%aa-2018/
CATEGORIES:אירועים קרובים,המיוחדים של טלי,טיולי משפחות,טיולים לחברות וארגונים
END:VEVENT
END:VCALENDAR