BEGIN:VCALENDAR
VERSION:2.0
PRODID:-//טלי בצלאל-שושני - שרה ומשחקת בדרך - ECPv4.0.4//NONSGML v1.0//EN
CALSCALE:GREGORIAN
METHOD:PUBLISH
X-WR-CALNAME:טלי בצלאל-שושני - שרה ומשחקת בדרך
X-ORIGINAL-URL:https://www.talibs.co.il
X-WR-CALDESC:Events for טלי בצלאל-שושני - שרה ומשחקת בדרך
BEGIN:VEVENT
DTSTART;TZID="UTC+0":20190117T073000
DTEND;TZID="UTC+0":20190117T173000
DTSTAMP:20211004T164630
CREATED:20181104T161531
LAST-MODIFIED:20190114T223859
UID:6083-1547710200-1547746200@www.talibs.co.il
SUMMARY:עוצמת האמונה
DESCRIPTION:לא פחות ממרתק !\n\nעד כמה יכולה האמונה להשפיע על חיינו ?\n\nשלושה מפגשים מרתקים מצפים לנו\, ושאלה אחת גדולה: שאלת האמונה.\n\nהמפגש הראשון - יתקיים באתר חדש - מרכז סקסום saxum.\n\nמי שקראו את "צופן דה וינצ'י" בוודאי זוכרים את הארגון המבהיל של אנשים החיים עם חגורת שיפודים המדממת את גופם כדי שיזכרו לאורך כל היום את סבלו של ישוע.\n\nזהו ארגון "אופוס דיי" = עבודת האל.\n\nנפגוש אחד המאמינים שאינו נזיר אך הוא פרוש\, שמקדש את חיי היומיום באמונה גדולה.       \n\nלמה מתחייבים חברי האופוס ? אילו קורבנות יומיומיים הם יקריבו\, איך ומדוע ?\n\nציור מהפיליפינים של מייסד האופוס\, חוזהמריה אסקריבה\, מוקף באנשים העוסקים בעבודות שונות.\n\nכותרתו: "התקדש בעזרת מעשיך".\n\nהופיע על בול לרגל 100 שנים להולדתו.\n\nהמפגש השני : עם ברברה.\n\nברברה תספר את סיפור חייה השזור תהפוכות גורל. מילדותה בווינה\, דרך תלאות האמונה ומשברים גדולים ועד לרגיעה שהתבררה כזמנית. דרכה של ברברה לוקחת אותנו דרך שאלת האמונה באל. סיפורה מרגש ביותר.\n\nהמפגש השלישי יהיה קל ומחויך- עם הנזיר אוליביה.\n\nהוא יספר על דרכו של צעיר צרפתי ממשפחה שונאת דת אל חיק האמונה.\n\nבין לבין – אספר על מאמינים ודרכי אמונה\, נשיר ביחד ונתרגש.\n\nכל המפגשים בעברית\n\nסביבת טיולנו: אבו-גוש ויד קנדי\, בקרבת ירושלים.\n\nתנאי יציאה: מינימום 35 משתתפים. \nהטיול יצא בכל מזג אויר פרט לשלג בירושלים.\n \n\nמחיר:  115 באתר ועוד 50 במזומן (לא כולל ארוחת תמר).\nכלכלה:\nארוחת בקר - להביא מן הבית או לקנות בנקודת עצירה.\nלהפסקת צהריים נעצור בקניון הראל. תוכלו לקנות במקום או להביא עמכם מן הבית.\nלא תוצע ארוחה של תמר.\nלוח זמנים :\n\n07:30 תל אביב\n\n08:00 ראשון לציון\, חניון אבי האסירים\n\n08:30 לטרון\, ליד פונדק אסא\n\n08:45 צומת שואבה\n\nסיום משוער : 16:30 באבו-גוש\, 17:30 תל אביב\n\n \n\nביטול: עד שבוע לפני היציאה
URL:https://www.talibs.co.il/event/%d7%a2%d7%95%d7%a6%d7%9e%d7%aa-%d7%94%d7%90%d7%9e%d7%95%d7%a0%d7%94/
CATEGORIES:אירועים קרובים,המיוחדים של טלי
END:VEVENT
END:VCALENDAR