BEGIN:VCALENDAR
VERSION:2.0
PRODID:-//טלי בצלאל-שושני - שרה ומשחקת בדרך - ECPv4.0.4//NONSGML v1.0//EN
CALSCALE:GREGORIAN
METHOD:PUBLISH
X-WR-CALNAME:טלי בצלאל-שושני - שרה ומשחקת בדרך
X-ORIGINAL-URL:https://www.talibs.co.il
X-WR-CALDESC:Events for טלי בצלאל-שושני - שרה ומשחקת בדרך
BEGIN:VEVENT
DTSTART;TZID="UTC+0":20181229T093000
DTEND;TZID="UTC+0":20181229T213000
DTSTAMP:20211004T164555
CREATED:20181111T214552
LAST-MODIFIED:20181216T094944
UID:6096-1546075800-1546119000@www.talibs.co.il
SUMMARY:החג של החגים 29.12.18
DESCRIPTION:טיול\, סעודה ושלוש דתות\n\nשבת\, 29.12.18 טיול חד פעמי !\n\nנתחיל את טיולנו קצת מאוחר\, כדי לחזור קצת מאוחר...\n\nנתחיל בהליכה קצרה ומרעננת בנחל קטיע\, בגשרים התלויים בפרק נשר\, בקרבת העיר חיפה. בפרק חורש ים תיכוני\, שפע פרחי כרמל\, ובעלי חיים. המסלול רחב ונח גם למתקשים בהליכה. אורכו כקילומטר וחצי.\n\nנמשיך אל שפרעם. לגמרי במקרה פגשתי את תוהמה\, עיתונאי בן שפרעם. הוא ייקח אותנו בסמטאות העיר אל סודות מקומיים\, נוכל להיכנס לבתים פרטיים ולחוות את אוירת החג בייחוד שאין דומה לו.\n\nלהשלמת אוירת החג - נסעד ב"סריי" - מסעדה מקומית במבנה אבן קסום\, בתככי העיר העתיקה של שפרעם.\n\nזו לא תהיה ארוחה - אלא סעודה חגיגית !\n\nראו פירוט למטה...\n\nנמשיך אל מנזר סטלה מאריס\, לשמוע על אליהו הנביא ולהשקיף על חיפה מתצפית יפהפייה.\n\nומשם אל כת האחמדיה\, לשמוע איך אפשר להבין את הג'יהאד בדרך אחרת\, כמה מאמינים יש בכת ומה כוחה ?\n\nולקינוח – נקצה זמן ליהנות ממראות המושבה הגרמנית של "החג של החגים" בחיפה\, שתהיה מוארת\, עם ליצנים ובלונים ומוזיקה ברחובות\, קסום !!!\n\nסביבת טיולנו : שפרעם וחיפה רבתי.\n\nמחיר : 245 ש"ח לאדם\, כולל סעודה עשירה ועוד 20 ש"ח טיפ במזומן לנהג ובמסעדה.\n\nכלכלה : סעודת צהריים: כלולה\, במסעדת סריי. לא כשר: 12 סוגי סלטים\, עיקרית לבחירה: סינטה\, קבאב\, אנטריקוט\, עוף עם שמנת ופטריות\, חזה עוף על האש\, דניס\, סלמון בתנור. מנות צמחוניות לבחירה: רביולי בשני רטבים\, פסטה פטוצ'יני ברוטב רוזה\, פטריות ברוטב מוקרם\, חציל ברוטב רוזה במילוי גבינה.  \n\nהתפריט כולל שתייה קלה.\n\nביטול: עד שבוע לפני היציאה.\n\nלוח זמנים: יש להקדים לפחות עשר דקות לפחות לפני שעת היציאה הנקובה.\n\n 09:00 יציאה מן התחנה הצפונית במפרץ האוטובוסים שניהם צפונה\, על דרך נמיר במקביל ל"חנה וסע" הסמוך לרכבת סבידור\n\nאיסופים בדרך:\n\n09:10 איסוף מתחנת הדלק סונול סינמה סיטי\n\n10:00 איסוף ברחוב קדושי יאסי ליד מרכז הקונגרסים\, חיפה\n\nלא תהיה עצירה לארוחה /שירותים בדרך\n\nחזרה משוערת: 21:00 בתל אביב
URL:https://www.talibs.co.il/event/%d7%a1%d7%a2%d7%95%d7%93%d7%aa-%d7%94%d7%97%d7%92-%d7%a9%d7%9c-%d7%94%d7%97%d7%92%d7%99%d7%9d/
CATEGORIES:אירועים קרובים,המיוחדים של טלי,טיולי משפחות
END:VEVENT
END:VCALENDAR