BEGIN:VCALENDAR
VERSION:2.0
PRODID:-//טלי בצלאל-שושני - שרה ומשחקת בדרך - ECPv4.0.4//NONSGML v1.0//EN
CALSCALE:GREGORIAN
METHOD:PUBLISH
X-WR-CALNAME:טלי בצלאל-שושני - שרה ומשחקת בדרך
X-ORIGINAL-URL:https://www.talibs.co.il
X-WR-CALDESC:Events for טלי בצלאל-שושני - שרה ומשחקת בדרך
BEGIN:VEVENT
DTSTART;TZID="UTC+0":20170906T070000
DTEND;TZID="UTC+0":20170907T210000
DTSTAMP:20210520T144220
CREATED:20180524T144255
LAST-MODIFIED:20180726T153958
UID:5656-1504681200-1504818000@www.talibs.co.il
SUMMARY:סליחות קבליות בצפת\, עבודה פנימית
DESCRIPTION:חגיגה משולבת של חוויית סליחות\, נופים\, חוויות אנושיות ומבט פנימה :\n\nיום רביעי 5.9.18\n\n07:00 נצא מתל אביב\, בתחנה הצפונית במפרץ האוטובוסים שפניהם צפונה\, על דרך נמיר\,\n\nלצד "חנה וסע" הסמוך לרכבת סבידור. אוטובוס סגלגל של בוריס תורס.\n\nלמבקשים לעלות בלטרון או בתחנת אבי האסירים בראשון לציון -\n\nהיציאה תהיה מוקדמת יותר\, בהתאם. עליית צפוניים אפשרית בתאום.\n\nנעצור לארוחת בוקר עצמית במתחם קניות בדרך. \n\nליד היישוב הררית\, לאחר הליכה קצרה\, נגיע אל מבדד נטופה. בתוך בור מים בנו נזירים מבודד - מקום להתבודדות. מתוך הביקור במקום מיוחד זה - נדבר על טעמם של השתיקה\, השקט וההתבודדות בחיינו.\n\nנמשיך אל היישוב יודפת.\n\nתחת עץ רב פארות נפגוש את אחד המורים במקום\, ונקבל דרכו חלון הצצה\n\nאל תורת גורדייף המסקרנת.\n\nנמשיך משם אל מתחם בואכה יודפת.\n\nבואכה יודפת - מתחם בילויים וקניות גלילי פסטורלי\, הממוקם בינות עצי אלון\, וצופה אל נוף עוצר נשימה בישוב יודפת שבגליל התחתון.\n\nבמקום חנויות\, גלריה\, בתי מלאכה\, מעדניה\, בית קפה ומאפיה. כל העסקים במקום שייכים לתושבי הישוב\, ורוחה הקסומה של יודפת נוכחת בכל חווית הביקור במקום.\n\nאנו נתמקם במסעדה של שרון פרז\, אשר תארח אותנו לארוחה קלה במזנון צמחוני-חלבי : סלטים\, אנטיפסטי\, קיש\, רביולי וקינוח.\n\nמשם ניסע אל המלון שלנו למנוחה קצרה.\n\nלאחר המנוחה\, עם התפוגג החום ולאור סוף היום\, נצא לבקר במצודת צפת המרשימה.\n\nכאן בנו הצלבנים מצודה ענקית שאיש לא הצליח לכבוש.\n\nהמצודה עמדה בתחום הירוק המוקף היום בתים\, כללה גם את הכביש המעגלי התחתון שבתמונה.\n\nנמשיך משם בירידה רגלית עד המלון.\n\nלאחר ארוחת ערב מלאה במלון רות רימונים\,  \n\nנשב לשיחה מרתקת עם יסכה שומר\, ממרכז "כלים שלובים". המעיין ממנו נובעים הכלים שלה ניזון הן מן העולם האקדמי והן מכלי עבודת הנפש של תורת הסוד והחסידות היהודית.\n\nנשמע ממנה על תקופת הסליחות בעיניים קבליות\, שיחת עומק.\n\nנקדים לישון!!!\n\nכי בשלוש לפנות בקר אנו מוזמנים לסיור סליחות צפתי\, עם מדריך מקומי.\n\nנסתובב באוירה הלילית בסמטאותיה היפות של צפת.\n\nנסיים בארבע וחצי\, באשמורת ראשונה\, ומי שירצה - יוכל להצטרף לאמירת סליחות בבית הכנסת אבוהב.\n\nנחזור אל המלון לישון עוד.\n\nביום חמישי 6.9.18\n\n ארוחת הבקר תהיה מאוחרת.\n\nעתה נצא לסיור באור יום בצפת\, על בתי הכנסת שלה וסיפורי הפלאות.\n\nבתוככי העיר העתיקה נכנס למוזיאון העוסק באומנות הקבלית דרך הסימלוביקה ואמנות הציור\, בחצר התאנה\, כולל סרט והדרכה.\n\nנמשיך אל מצודת ביריה.\n\nסיפורם של בני נוער שעלו אל המצודה ועשו את הלא-יאמן.\n\nלאחר ארוחת צהריים טעימה של תמר\,\n\nנרד לביקור בבית הכנסת הקדום של נבוריה.  \n\nנבוריה ??\n\nמי בנו את בית הכנסת הזה ומתי?\n\nדרך בית הכנסת נאיר תקופה מרתקת בתולדות עמנו.\n\nולקינוח :\n\nבית הכנסת של מירון וקבר רשב"י :\n\nאיך קלקל משרד הדתות את הסיכוי לגאולה שתבוא מבית הכנסת של מירון\,\n\nומיהו רבי שמעון בר יוחאי ?\n\nמתי חי ? מדוע חוגגים במדורות את יום מותו ?\n\n(נבקר במקום לא בעת הילולה)\n\nחזרה משוערת לתל אביב : עד 21:00\n\nמחיר הטיול :\n\nמחיר הטיול מחולק לשניים : מחיר הטיול ובנוסף תשלום במזומן (לארוחה וטיפ במסעדה).\n\nמחיר לאדם בחדר זוגי - 870 ש"ח (למשלמים דרכי או דרך ענת).\n\nהנחה בתשלום עצמאי באתר : אדם בחדר זוגי 850 ש"ח.\n\nכרגע לא ניתן לרכוש כרטיסים דרך האתר אלא דרך ענת בלבד- 0523500666\n\nבנוסף : אגבה 70 ש"ח לאדם במזומן עבור ארוחה של תמר ביום חמישי וטיפ במסעדה ביום רביעי.\n\nהמחיר הכולל של הטיול - 940 ש"ח לאדם בחדר זוגי. (לא כולל הנחה של 20 שקלים למשלמים עצמאית)\n\nהתשלום אינו כולל טיפ לנהגת\, מומלץ 20- 40 ש"ח לאדם\n\nדמי ביטול :\n\nעד 30 יום לפני הטיול - בלי חיוב.\n\nעד 21 יום לפני הטיול אגבה 50% מן התשלום (מזומנים - ויתור מלא)\n\nבביטול בפחות מ- 21 יום לפני הטיול - אגבה תשלום מלא עבור הטיול\, בהחסרת התשלום במזומן בלבד.\n\nאם נכנס משתתף אחר במקום המשתתף שביטל - יוחזר הסכום במלואו בכל עת.\n\nארוחות :\n\nכל הארוחות כלולות\, למעט ארוחת בקר עצמית בבוקר היום הראשון (רביעי).\n\nלינה :\n\nנלון במלון "רות רימונים" המצוין\, במרחק הליכה מן הרובע העתיק של צפת. \n\nהמבקשים ללון בחדר ליחיד - תוספת של 276 ש"ח. למבקשים ללון בחדר של שלושה - הנחה של 23 ש"ח לאדם.\n\nדרגת קושי :\n\nהטיול בצפת מחייב עליה וירידה במדרגות. משתדלת לצמצם\, אך אין אפשרות להימנע מכך. יש להביא נקודה זו בחשבון.\n\nהדרך למבדד נטופה היא הליכה רגלית של כמה דקות לכל כיוון. בעיקרה מישורית.\n\nפרט לכך - אין הליכה משמעותית.\n\nמה להביא :\n\nמי שתיה\, לפחות 2 ליטר לאדם ליום\,\n\nכבע\, קרם הגנה נגד שמש\,\n\nנעלי הליכה שטוחות\, סגורות ולא מוגבהות\,\n\nכיפה (לגברים) וביגוד צנוע ומתחשב - לנשים\,\n\nתוספת ביגוד חם ללילה.\n\nכיסא נייד - למי שיש\, תמיד מומלץ. \n\nהישיבה - על פי סדר ההרשמה !!
URL:https://www.talibs.co.il/event/%d7%a1%d7%9c%d7%99%d7%97%d7%95%d7%aa-%d7%a7%d7%91%d7%9c%d7%99%d7%95%d7%aa-%d7%91%d7%a6%d7%a4%d7%aa-%d7%a2%d7%91%d7%95%d7%93%d7%94-%d7%a4%d7%a0%d7%99%d7%9e%d7%99%d7%aa/
CATEGORIES:אירועים קרובים,טיולי משפחות,טיולים ליומיים
END:VEVENT
END:VCALENDAR