BEGIN:VCALENDAR
VERSION:2.0
PRODID:-//טלי בצלאל-שושני - שרה ומשחקת בדרך - ECPv4.0.4//NONSGML v1.0//EN
CALSCALE:GREGORIAN
METHOD:PUBLISH
X-WR-CALNAME:טלי בצלאל-שושני - שרה ומשחקת בדרך
X-ORIGINAL-URL:https://www.talibs.co.il
X-WR-CALDESC:Events for טלי בצלאל-שושני - שרה ומשחקת בדרך
BEGIN:VEVENT
DTSTART;VALUE=DATE:20150101
DTEND;VALUE=DATE:20150101
DTSTAMP:20210513T083510
CREATED:20151209
LAST-MODIFIED:20160421
UID:563-1420070400-1420156799@www.talibs.co.il
SUMMARY:"סיפורי תל אביב ומה שמסביב" - מופע מטייל באוטובוס המזמר בתל אביב
DESCRIPTION:נעלה על האוטובוס וניסע תוך כדי שירה על נתיבי איילון לצומת קיבוץ גלויות ומשם ליפו.\n\nנספר על השכונות שנעבור - נחלת יצחק - מי היה יצחק? ומדוע לא קוברים יותר בבית הקברות שם ? ובהמשך - שכונת מונטיפיורי ובמרכזה "הר התקווה" - מי היו יושביו ומה הקשר בינם לבין שכונת התקווה הסמוכה. ומי היה לה גוורדיה שעל שמו המחלף ?\n\nבמחלף קיבוץ גלויות נפנה ימינה לכיוון יפו תוך כדי שירי תחילת תל אביב\, מול מתחם התחנה נרד\, נדבר על שכונת מנשייה\, הרכבת שהיתה והמעבר מיפו לתל אביב – וכמובן נשיר.\n\nמשם ניסע לרחוב אחד העם פינת רוטשילד. נרד ליד מלון פלטין לשעבר ונספר עליו\, וליד האנדרטה לראשוני תל אביב וביתו של מאיר דיזינגוף ננסה להיזכר מי הגה את רעיון העיר תל אביב\, אותו אחד שערך את הגרלת הצדפים המפורסמת.\n\nנמשיך בנסיעה\, נפנה שמאלה ברחוב אלנבי\, נעצור ליד ככר מגן דוד - מה שמקור שמה ומי הוא בנימין של נחלת בנימין ? נמשיך בנסיעה על אלנבי עד מגדל האופרה - שם נעצור להפסקת שירותים ונספר על בניין הקזינו שהיה ואיך קשור ירושלים סגל (תל אביב) לכל העניין....\n\nנמשיך בנסיעה על רחוב הירקון - כאן היה הבית האדום\, ובהמשך חוף מציצים וכאן היתה גם המערה החשמלית של חבורת חסמב"ה הנודעת. ולא הרחק משם - ביתה של לאה גולדברג ברחוב ארנון עם שיריה המוכרים וכמובן "דירה להשכיר".\n\nנפנה בנורדאו\, נצביע על ביתו של נתן אלתרמן\, נספר ונשיר ונזכיר כמובן גם את ביתו תרצה אתר.\n\nנפנה ימינה בדיזנגוף\, נעצור בסמוך לקפה כסית לשעבר - נזכיר את הקפה\, ממש לא רחוק - בית ילדותו של אריק איינשטיין - נזכר בגעגוע ונשיר משיריו.\n\nנעבור את כיכר צינה דיזנגוף - נספר עליה ועל מתכננת הכיכר - ז'ניה אוורבוך\, נמשיך ישר עד אבן גבירול - ומשם נחזור לארלוזורוב.\n\nובכל הדרכים - נשיר ונספר עוד אנקדוטות מחיי תל אביב.\n\nמשך הסיור - שלוש שעות.\n\nנקודת המפגש - ארלוזורוב תל אביב או חנה וסע ליד.
URL:https://www.talibs.co.il/event/%d7%a1%d7%99%d7%a4%d7%95%d7%a8%d7%99-%d7%aa%d7%9c-%d7%90%d7%91%d7%99%d7%91-%d7%95%d7%9e%d7%94-%d7%a9%d7%9e%d7%a1%d7%91%d7%99%d7%91-%d7%9e%d7%95%d7%a4%d7%a2-%d7%9e%d7%98%d7%99%d7%99%d7%9c-%d7%91/
LOCATION:ארלוזרוב\, חניון חנה וסע\, תל-אביב
CATEGORIES:אוטובוס מזמר ואירועי גיבוש,טיולי משפחות,טיולים לחברות וארגונים,טיולים מיוחדים,מופעי זמר
END:VEVENT
END:VCALENDAR