BEGIN:VCALENDAR
VERSION:2.0
PRODID:-//טלי בצלאל-שושני - שרה ומשחקת בדרך - ECPv4.0.4//NONSGML v1.0//EN
CALSCALE:GREGORIAN
METHOD:PUBLISH
X-WR-CALNAME:טלי בצלאל-שושני - שרה ומשחקת בדרך
X-ORIGINAL-URL:https://www.talibs.co.il
X-WR-CALDESC:Events for טלי בצלאל-שושני - שרה ומשחקת בדרך
BEGIN:VEVENT
DTSTART;VALUE=DATE:20100101
DTEND;VALUE=DATE:20100101
DTSTAMP:20210517T011103
CREATED:20151208
LAST-MODIFIED:20160502
UID:448-1262304000-1262390399@www.talibs.co.il
SUMMARY:"אור נרות בנחלאות" - סיור חנוכיות בירושלים
DESCRIPTION:"ואם בחלונות הערב אור נרות החג רועד - כל שנבקש - לו יהי...." - בימי החנוכה נצא לסייר בשכונות הנחלאות בירושלים. נלך לבקש את המסורת היהודית\, את ההתרפקות על בית סבא:\nלצד שירי החנוכה האהובים - נשאל את עצמנו - מה עושות הנשים בערבי החנוכה\, מניין צמח סיפור יהודית והולופרנס\, למה סופגניות? למה סביבונים? למה חנוכיה ולמה שמונה נרות? נציג מילים של אור בעברית שלנו. נעלה את שאלת השאלות של העם היהודי - האם לבחור בשלום ולצדו פשרנות דתית או במאבק בכל מחיר על הזהות הדתית... שאלה המלווה אותנו כיהודים בצמתים שונים של ההיסטוריה.\nנשמע מדוע הפך חג החנוכה לאירוע הדתי המרכזי בחיי החלוצים... תוך כדי טיול - נביט בחנוכיות המציצות מפתחי הבתים\, מאחורי הזגוגיות ובתוך בתי חלונות קטנים.\nנוכל לברך על הנרות במרכז ויינר\, ליהנות מתה חם\, מסופגנייה ומסרטון על הנחלאות בטעם של פעם.\nמשך הטיול כשלוש שעות. יש לבוא בלבוש חם.\nדרגת קושי: הליכה בינונית הכוללת מעט עליות בסמטאות הנחלאות ובעיר העתיקה.\nטלי שלום\,\nאנו רוצות להודות לך מאוד על הסיור הנפלא והמרתק בנחלאות. בהתחשב בעובדה שאינך מכירה את הילדים ושהקבוצה היתה גדולה הצלחת להכיל ולאחד את כולנו סביב סיפורים מעניינים\, מגוונים ומלאי חיים. אהבנו מאוד את השילוב בין ההיסטורי לאישי\, את השירים וכל התוספות המיוחדות לך. \n\nנראה שהילדים נהנו מאוד מסיפורייך ושרייך. הרגשנו שהובלת אותנו ביד בטוחה ויחד עם זאת היית קשובה לצרכינו. גם ההורים שליוו אותנו נהנו והתפעלו מאוד. \n נשמח מאוד אם נפגש שוב.\n\nיישר כוח ובהצלחה!\n שירה ומיטל. \n\nכיתות ד׳ ומשפחותיהם\n בית ספר אדם.
URL:https://www.talibs.co.il/event/%d7%a1%d7%99%d7%95%d7%a8-%d7%97%d7%a0%d7%95%d7%9b%d7%99%d7%95%d7%aa-%d7%91%d7%99%d7%a8%d7%95%d7%a9%d7%9c%d7%99%d7%9d/
LOCATION:שער יפו\, הכותל המערבי\, ירושלים
CATEGORIES:המיוחדים של טלי,טיולי משפחות
END:VEVENT
END:VCALENDAR