BEGIN:VCALENDAR
VERSION:2.0
PRODID:-//טלי בצלאל-שושני - שרה ומשחקת בדרך - ECPv4.0.4//NONSGML v1.0//EN
CALSCALE:GREGORIAN
METHOD:PUBLISH
X-WR-CALNAME:טלי בצלאל-שושני - שרה ומשחקת בדרך
X-ORIGINAL-URL:https://www.talibs.co.il
X-WR-CALDESC:Events for טלי בצלאל-שושני - שרה ומשחקת בדרך
BEGIN:VEVENT
DTSTART;TZID="UTC+0":20170627T080000
DTEND;TZID="UTC+0":20170627T170000
DTSTAMP:20211004T164647
CREATED:20170627T180352
LAST-MODIFIED:20170627T191635
UID:4039-1498550400-1498582800@www.talibs.co.il
SUMMARY:"נערים בני בלי שם" – סיור באוטובוס המזמר בעקבות לוחמי הפלמ"ח בשפלת יהודה
DESCRIPTION:...אחד הפלמחאים אמר - יום יבוא והחבר'ה יעברו כאן על הכביש המהיר לירושלים\, ויחשבו רק - איך לעקוף את האיטי ההוא לפני שתתחיל העלייה הקשה. ואיש לא יזכור אותנו\, שבדמנו...\n\nסיור בעקבות הבחורים והבחורות ההם\, לאורך נתיבי חייהם\, התלבטויותיהם\, וההווי המיוחד שלהם.  סיור  בדרכי האויב ובדרכי הפלמ"ח\, אל המשלטים הקטנים החשופים\, מה בין הלוחמות ללוחמים \, סיור בעקבות השירים היפים של הפלמ"ח  - שירי הרעות ושירי השטות\, המוכרים\, הצוחקים\, הצובטים בלב...  סיור בעקבות דמויות של לוחמים אגדיים– פוזה\, ג'ימי\, מכבי...\n\nמהלך הסיור:\n\nנצא מלטרון לעבר מצפה הראל. נדבר על השיירות המבקשות להביא לירושלים הנצורה את כל צרכיה. נספר על דרך בורמה.\n\nנגיע אל בית שמש לספר על המשלט המשותף\, על איך חיים כמעט נתן לרבין אסקימו\, ועל דמותו של ג'ימי.\n\nלצד המושבה הקטנה הרטוב נשמע את סיפורה העצוב.\n\nנבקר באנדרטת המח"ל. נעלה את דמותו של דיויד מרכוס ועזרתו העצומה.\n\nנעלה לסיור רגלי בשמורת המסרק. (הליכה קלה) . נראה מה ראו תושבי בית מחסיר מן הכפר שלהם.\n\nדרך שורש ושואבה נמשיך לקיבוץ מעלה החמישה. נעמוד ליד המבנים המחוררים ונספר על מקומו של הקיבוץ בעת הקרבות. נעלה משם לאנדרטת הר-אדר לתצפית נוף מהממת של 360 מעלות !  ומשם נרד לעבר קריית ענבים. נשמע על ג'וני\, בן קרית ענבים\,  בבית הקברות של קרית ענבים ניפרד מן הלוחמים שהכרנו\,  ושם נסיים.\n\nנופים של עוצמה\, סיפורים מרגשים ושירים שבלעדיהם אי אפשר.\n\nהערה:  אפשר לוותר על קטע ההליכה בשמורת המסרק. אחרת - הטיול אינו מיועד לאנשים המתקשים בהליכה ואינו מומלץ בעונת החורף\n\nהמחיר להדרכה:  2000 כולל מע"מ לא כולל אוטובוס\n\nהמלצות:\n\n \n\nטלי שלום\,\n\nאני רוצה להביא בפנייך את האושר שגרמת לאשתי ולי בהדרכה שלך בטיול בעקבות הפלמ"ח במסגרת צוות חיפה.\n\nתודה רבה על ההדרכה הנאה והסדורה של החומר בתוספת השירים שהתאימו למקום ולנושא.\n\nבתודה\,\n\nפנחס קורץ\n\n♥♥♥♥\n\nטלי יקרה ומקסימה....\n\nמעבר למילים ומעבר לחוויה.... היית את!!! חדרת ללבי לכל רבדיו....את מוכשרת ברמות על.... רגישותך ונועם גישתך לאנשים\, לשירים\, לטקסטים לא יסולאו בפז..... חוויתי הייתה מעבר ליום המופלא - הזכות להתוודע אליך - היית מתנה ממש. המשיכי כך חביבתי\, והביאי הרבה אור\, תרבות ואת נכסי צאן הברזל של הארץ הזאת\, לפתחם של אנשים רבים... אוהבת לבנת בר \n\n 
URL:https://www.talibs.co.il/event/%d7%a0%d7%a2%d7%a8%d7%99%d7%9d-%d7%91%d7%a0%d7%99-%d7%91%d7%9c%d7%99-%d7%a9%d7%9d-%d7%a1%d7%99%d7%95%d7%a8-%d7%91%d7%90%d7%95%d7%98%d7%95%d7%91%d7%95%d7%a1-%d7%94%d7%9e%d7%96%d7%9e%d7%a8/
CATEGORIES:אוטובוס מזמר ואירועי גיבוש,המיוחדים של טלי
END:VEVENT
END:VCALENDAR