BEGIN:VCALENDAR
VERSION:2.0
PRODID:-//טלי בצלאל-שושני - שרה ומשחקת בדרך - ECPv4.0.4//NONSGML v1.0//EN
CALSCALE:GREGORIAN
METHOD:PUBLISH
X-WR-CALNAME:טלי בצלאל-שושני - שרה ומשחקת בדרך
X-ORIGINAL-URL:https://www.talibs.co.il
X-WR-CALDESC:Events for טלי בצלאל-שושני - שרה ומשחקת בדרך
BEGIN:VEVENT
DTSTART;VALUE=DATE:20100101
DTEND;VALUE=DATE:20100101
DTSTAMP:20210520T144327
CREATED:20151208
LAST-MODIFIED:20160213
UID:481-1262304000-1262390399@www.talibs.co.il
SUMMARY:נעמי של ירדן וכנרת
DESCRIPTION:מופע  זמר בשיתוף הקהל\n\nמופע זמר סוחף בעקבות שיריה היפים של נעמי שמר.\n\nטלי ואיתן מגישים מבחר גדול משיריה של נעמי שמר\, מספרים אנקדוטות מפרקי חייה\, על ילדותה ובגרותה\, על הקריירה הנוסקת ועל רגעיה האחרונים וגם על שירים מיוחדים.\n\nהמילים מוקרנות על מסך והקהל מוזמן להצטרף.\n\nנעמי שמר\, היוצרת הגדולה של לחנים נפלאים ומילים רבות קסם שכולנו אוהבים.
URL:https://www.talibs.co.il/event/%d7%a0%d7%a2%d7%9e%d7%99-%d7%a9%d7%9c-%d7%99%d7%a8%d7%93%d7%9f-%d7%95%d7%9b%d7%a0%d7%a8%d7%aa/
CATEGORIES:מופעי זמר
END:VEVENT
END:VCALENDAR