BEGIN:VCALENDAR
VERSION:2.0
PRODID:-//טלי בצלאל-שושני - שרה ומשחקת בדרך - ECPv4.0.4//NONSGML v1.0//EN
CALSCALE:GREGORIAN
METHOD:PUBLISH
X-WR-CALNAME:טלי בצלאל-שושני - שרה ומשחקת בדרך
X-ORIGINAL-URL:https://www.talibs.co.il
X-WR-CALDESC:Events for טלי בצלאל-שושני - שרה ומשחקת בדרך
BEGIN:VEVENT
DTSTART;VALUE=DATE:20100101
DTEND;VALUE=DATE:20100101
DTSTAMP:20210517T011159
CREATED:20151209
LAST-MODIFIED:20170226
UID:571-1262304000-1262390399@www.talibs.co.il
SUMMARY:מסביב לשולחן ב"כסית"
DESCRIPTION:מבחר שירים וסיפורים עסיסיים על הבוהמה התל אביבית בשנות הארבעים\, החמישים והשישים - נתן אלתרמן ואלכסנדר פן\, שלונסקי ואורלנד\, אברהם חלפי וקלצ'קין\, חנה רובינא\, רחל מרכוס וצילה בינדר - שירי אהבה ושירי קנאה\, שירי נוף מולדת ושירי בתי מרזח ועמם סיפורי משולשים רומנטיים סוערים ושאר סיפורים פיקנטיים - ערב של צחוק ושל דרמה\, של שירה נוגה ושירה סוחפת.\nמילות השירים מוקרנות על גבי מסך!\nעורכת\, מגישה ושרה: טלי בצלאל-שושני.
URL:https://www.talibs.co.il/event/%d7%9e%d7%a1%d7%91%d7%99%d7%91-%d7%9c%d7%a9%d7%95%d7%9c%d7%97%d7%9f-%d7%91%d7%9b%d7%a1%d7%99%d7%aa/
CATEGORIES:מופעי זמר
END:VEVENT
END:VCALENDAR