BEGIN:VCALENDAR
VERSION:2.0
PRODID:-//טלי בצלאל-שושני - שרה ומשחקת בדרך - ECPv4.0.4//NONSGML v1.0//EN
CALSCALE:GREGORIAN
METHOD:PUBLISH
X-WR-CALNAME:טלי בצלאל-שושני - שרה ומשחקת בדרך
X-ORIGINAL-URL:https://www.talibs.co.il
X-WR-CALDESC:Events for טלי בצלאל-שושני - שרה ומשחקת בדרך
BEGIN:VEVENT
DTSTART;TZID="UTC+0":20181226T113000
DTEND;TZID="UTC+0":20181226T233000
DTSTAMP:20211004T164619
CREATED:20181121T210901
LAST-MODIFIED:20181217T163717
UID:6127-1545823800-1545867000@www.talibs.co.il
SUMMARY:מג"ל – מחנכים גימלאים לומדים מודיעין מכבים רעות
DESCRIPTION:"החג של החגים" בחיפה הססגונית\n\nבתכנית:\n\n11.30- יציאה מתחנת האוטובוס ליד היכל התרבות מודיעין .\n\nנסיעה דרך כביש 6 כולל עצירה לארוחת צהרים עצמאית.\n\nביקור במוחרקה - רשמים מדמותו של אליה הנביא  כאיש נבואות זעם או נחמה? כולל תצפית אל עמק יזרעאל.\n\nביקור בפארק נשר - למסלול הגשר התלוי.\n\nביקור בעדת האחמדים - מפגש מיוחד עם מוסלמים שמאמינים בג'יהאד בדרך ייחודית\, כמה מהם יש בעולם? מה מיוחד בחייהם  ועוד...\n\nביקור בבית תנחום  בטירת הכרמל - בית כנסת קווקזי מן היפים בארץ.\n\nנשוחח עם בן הרב\, נשמע על העדה הקווקזית ונבקר במוזיאון הקטן הצמוד לביה"כ.\n\nנסיעה למושבה הגרמנית בחיפה – מיצג אורות קסום וססגוני\, לקבלת השנה האזרחית החדשה. נאפשר סיור של שעתיים  הכולל ארוחת ערב  עצמאית  בלב המושבה הגרמנית בשדרות בן גוריון המוארות והססגוניות.\n\nנסיעה חזרה למודיעין דרך כביש 6. סיום משוער 23.30\n\nבארגון והדרכת טלי בצלאל שושני - הדרכה בשילוב משחק וזמר.\n\nתנאי ביטול: מהרישום עד שבוע לפני הטיול דמי ביטול  בסך 10 ש"ח. לאחר מכן – ביטול בתשלום מלא.\n\nמג"ל הינו גוף התנדבותי הפועל למען גמלאי מערכת החינוך במודיעין ואינו אחראי לביטוח המטיילים. המטיילים מבוטחים ע"י החברה המארגנת וחברת ההסעות.\n\nלפרטים: צוות טיולים - ירדנה פיינמסר 052-2644261\, אתי ברדוגו  052-3463790\n\nצוות מג"ל מודיעין: בתיה אלימלך\, אתי ברדוגו\, ריטה טייטלר\, מלי טרבלסי\, מיכל ממן\, ירדנה פיינמסר.
URL:https://www.talibs.co.il/event/%d7%9e%d7%92%d7%9c-%d7%9e%d7%97%d7%a0%d7%9b%d7%99%d7%9d-%d7%92%d7%99%d7%9e%d7%9c%d7%90%d7%99%d7%9d-%d7%9c%d7%95%d7%9e%d7%93%d7%99%d7%9d-%d7%9e%d7%95%d7%93%d7%99%d7%a2%d7%99%d7%9f-%d7%9e/
CATEGORIES:אירועים קרובים,המיוחדים של טלי,טיולים לחברות וארגונים
END:VEVENT
END:VCALENDAR