BEGIN:VCALENDAR
VERSION:2.0
PRODID:-//טלי בצלאל-שושני - שרה ומשחקת בדרך - ECPv4.0.4//NONSGML v1.0//EN
CALSCALE:GREGORIAN
METHOD:PUBLISH
X-WR-CALNAME:טלי בצלאל-שושני - שרה ומשחקת בדרך
X-ORIGINAL-URL:https://www.talibs.co.il
X-WR-CALDESC:Events for טלי בצלאל-שושני - שרה ומשחקת בדרך
BEGIN:VEVENT
DTSTART;TZID="UTC+0":20161007T080000
DTEND;TZID="UTC+0":20161007T163000
DTSTAMP:20210517T011116
CREATED:20160831T201133
LAST-MODIFIED:20170409T121127
UID:2160-1475827200-1475857800@www.talibs.co.il
SUMMARY:"חטאים וסליחות בירושלים" -טיול עומק יומי ארוך באוטובוס המזמר
DESCRIPTION:על חוטאים\, חטאים וסליחות בירושלים - טיול באוטובוס המזמר\n\nבירושלים - מעבר לצדיקים ומבקשי מחילות - האם גם שם יש חוטאים וחטאים ?\n\nאוהו... ב"טיול הסליחות" הבלתי שגרתי הזה נעסוק בעיקר בחטאים שהיו (ועוד איך היו) בירושלים הקסומה.\n\nנשמע על כנופיות ושודדים\,\n\nעל רוצחים וגנבים\,\n\nעל אהבות אסורות ושערוריות מין\,  \n\nעל משורר שהעסיק פרוצות כדי לשרת את רשת הריגול שלו (מרגל ? אמתי ?) \n\nעל שוד הכספות של כנופיית הבוכרים\,  \n\nעל מארב ורצח בכניסה לבית החולים הכי חרדי בירושלים\,  \n\nעל מלך חוטא\,\n\nעל מה שכבר מקובל בחדרי חרדים\,\n\nעל מלכה שהוגלתה\,\n\nעל נואפת יפהפייה שנישלה את בעלה\,\n\nעל מתקני האזנה סודיים\,\n\nעל בית יתומים שנשאר בלי גג... "חטאנו לפניך\, רחם עלינו" ! \n\nהטיול במתכונת "האוטובוס המזמר" עם כשלוש שעות (בהפסקות) של סיור רגלי מביך בסמטאות העולות ויורדות\n\nבירושלים\, סיפורי פולקלור ושירים.\n\nיציאה עם האוטובוס המזמר בשעה 08:00 מתל-אביב (מנתיב התחבורה הציבורית חניון "חנה וסע" ארלוזרוב)\n\n8:30 ראשון לציון בתחנה המרכזית הישנה\n\n8:50 לטרון ארוחת בוקר עצמית ואיסוף\n\nחזרה משוערת בשעה 16:30 לתל-אביב\, פיזור בנקודות האיסוף\n\nרמת הליכה נדרשת: בינונית
URL:https://www.talibs.co.il/event/%d7%97%d7%98%d7%90%d7%99%d7%9d-%d7%95%d7%a1%d7%9c%d7%99%d7%97%d7%95%d7%aa-%d7%91%d7%99%d7%a8%d7%95%d7%a9%d7%9c%d7%99%d7%9d-%d7%98%d7%99%d7%95%d7%9c-%d7%91%d7%90%d7%95%d7%98%d7%95%d7%91/
CATEGORIES:אוטובוס מזמר ואירועי גיבוש,אירועים קרובים,המיוחדים של טלי,טיולים לחברות וארגונים
END:VEVENT
END:VCALENDAR