BEGIN:VCALENDAR
VERSION:2.0
PRODID:-//טלי בצלאל-שושני - שרה ומשחקת בדרך - ECPv4.0.4//NONSGML v1.0//EN
CALSCALE:GREGORIAN
METHOD:PUBLISH
X-WR-CALNAME:טלי בצלאל-שושני - שרה ומשחקת בדרך
X-ORIGINAL-URL:https://www.talibs.co.il
X-WR-CALDESC:Events for טלי בצלאל-שושני - שרה ומשחקת בדרך
BEGIN:VEVENT
DTSTART;TZID="UTC+0":20180531T093000
DTEND;TZID="UTC+0":20180531T133000
DTSTAMP:20210517T011056
CREATED:20171210T215843
LAST-MODIFIED:20180513T145027
UID:4667-1527759000-1527773400@www.talibs.co.il
SUMMARY:חגיגת נשים - בוקר עשיר בסיפורים ושירים על נשים בתל אביב הקטנטנה
DESCRIPTION:נשים וגברים מוזמנים להצטרף לבוקר עשיר בסיפורים ובשירים על נשים בתל אביב הקטנטנה:\n\nסיפורי נשים אוהבות ומתאכזבות\, משוררות\, יוצרות ומלכת יופי אחת על חנטור.\n\nבתחילת הסיור נפגוש את פולה בן גוריון: "תאכל קוץ'מוץ' ותהיה בריא"\, אמרה פולה לדויד\,\n גם לאחר זוגיות ארוכת שנים. הוא פגש אותה כאחות ראשית בחדר ניתוח. הרעיון של ארץ ישראל\n לא היה לטעמה... אבל היא באה. איך נראתה הזוגיות של פולה ודויד?\n מדוע ללאה גולדברג לא הייתה זוגיות של ממש ? התשובה עולה משיריה ומסיפור חייה.\n משוררת נוספת נפלאה\, דליה רביקוביץ' מדוע לא הצליחה בחיי הזוגיות שלה?\n מה קרה ליפה שהחליפה שם משפחתה מאברמוב לגוסטין ואז לירקוני?\n נספר גם על ימימה אבידר טשרנוביץ ושכנתה\, הגברת הראשונה של הריקוד\, גרטרוד קראוס.\n סוף הטיול מזמן לנו סיפורים ושירים על שושנה דמארי\, על מלכת היופי הראשונה של\n תל אביב (מצחיקה מאד)\, על הגננת של יצחק רבין טובה חזקי-נא ודמויות נשים נוספות בבית הקברות טרומפלדור.\n\nטלי בצלאל שושני והגיטרה - מדריכה\, זמרת ושחקנית\n מלווה את הטיול בשירים\, בצחוק ובהתרגשות\, ומשחקת חלק מן הדמויות.\n\nנקודת מפגש: 09:30 בשדרות בן גוריון 17\, ליד בית בן גוריון\n\nבשל צפיפות חניה - מומלץ להשתמש בתחבורה ציבורית : הגעה מחניון רידינג בקו 4 מתחנת רכבת סבידור בקו 5 וכל אוטובוס המגיע לרחוב בן-יהודה פינת בן גוריון.\n\nשעת סיום משוערת 13:30 ליד בית הקברות ברחוב טרומפלדור.\n מרחק הליכה חזרה לנקודת המוצא: כ- 20 דקות. \n\nאפשר לחזור באוטובוס עירוני לנקודת המוצא.\n\nהערות:\nהליכה מתונה\n הטיול הוא רגלי\, כ- 4 שעות\n הצטיידו בנעלים נוחות להליכה מישורית\n מי שתייה (לפחות ליטר וחצי למשתתפת)\n מומלץ להביא כיסאות טיול מתקפלים\n\nכלכלה: \n\nתהיה באמצע הטיול עצירה להצטיידות\n\nדמי ביטול:\n עד יומיים (48 שעות) לפני האירוע ללא דמי ביטול\n מיומיים ועד למועד האירוע 100% דמי ביטול\n\nהמלצה:\n\nטלי המדהימה\,\n\nאיך הפעילה אותנו ואת עצמה בטיול הנשים ב- 20.3.18. היה מקסים. היא גרמה לרוב הקבוצה לרקוד זוגות זוגות\, טנגו.\n\nחברתי אמרה שהבוקר הזה פתח לה את הנשמה\n\nציפי לביא
URL:https://www.talibs.co.il/event/%d7%97%d7%92%d7%99%d7%92%d7%aa-%d7%99%d7%95%d7%9d-%d7%94%d7%90%d7%99%d7%a9%d7%94-%d7%a9%d7%99%d7%a8%d7%99-%d7%9e%d7%a9%d7%95%d7%a8%d7%a8%d7%95%d7%aa-%d7%95%d7%a1%d7%99%d7%a4%d7%95%d7%a8%d7%99%d7%94/
CATEGORIES:המיוחדים של טלי,טיולי נשים
END:VEVENT
END:VCALENDAR