BEGIN:VCALENDAR
VERSION:2.0
PRODID:-//טלי בצלאל-שושני - שרה ומשחקת בדרך - ECPv4.0.4//NONSGML v1.0//EN
CALSCALE:GREGORIAN
METHOD:PUBLISH
X-WR-CALNAME:טלי בצלאל-שושני - שרה ומשחקת בדרך
X-ORIGINAL-URL:https://www.talibs.co.il
X-WR-CALDESC:Events for טלי בצלאל-שושני - שרה ומשחקת בדרך
BEGIN:VEVENT
DTSTART;TZID="UTC+0":20190314T073000
DTEND;TZID="UTC+0":20190316T193000
DTSTAMP:20211004T164510
CREATED:20181217T095756
LAST-MODIFIED:20190311T115322
UID:6438-1552548600-1552764600@www.talibs.co.il
SUMMARY:זאבים\, בוקר\, טוסקנה הדרוזית ומטעמי הגולן
DESCRIPTION:סופשבוע ארוך ברמת הגולן\n\nחמישי-שי-שבת 14-15-16 במרץ 2019\n\nכל כך הרבה פעמים ביקרנו בגולן.\n\nתמיד בקרנו באותם המקומות. אבל הפעם הזאת תהיה אחרת:\n\nהפעם נערוך סיור ב- ברים של מג'דל שאמס ונשמע מפי לילה על חיי הלילה ועל השינויים בחברה הדרוזית הצעירה\,\n\nנראה מבני אבן עתיקים וננחש למה שימשו\, גלי אבנים מתמיהים שדווקא מתוכם צומחים עצים\, דולמנים\, מבנים מימי היטורים (מי הם?)\, קשתות וסימנים באבן\, נבקר בבית הכנסת העתיק של קנטיר (עין קשתות) שעבר שחזור באמצעים מתקדמים והוא מרגשששש !\n\nנתייחס למלחמת יום הכיפורים הקשה\, נצפה אל בית החולים לפצועים סוריים\, נבין מי נלחם במי בתוך המהומה שבסוריה השכנה\, גבעת הצעקות ויחסם האמתי של הדרוזים בגולן אל ישראל.\n\nנפנה מבט אל תעלות נ.ט: אל תפקידן\, אל המסלע כמכתיב את פעולות הצבא\, נביט בלוע כבוי ונבין את הפעילות הגעשית....\n\nהרבה ? ... הרבה יותר !\n\nנלון במלונות במג'דל שאמס\, נסייר יומיים בהדרכתו של אייל גארי\, הבונה את ביתו בגולן\, מרכז ומוביל את צבא הגנה לטבע: פרויקט העוסק בשימור טבע ומזעור פגיעה באזורים הפתוחים\, מנוהל ע"י החברה להגנת הטבע\, רשות הטבע והגנים בשיתוף עם צה"ל\, נפגוש בוקר ונשמע ממנו על חייו עם הזאבים והפרות\, נשמע על הקשר בין עדרי הבקר לבין המדבור\, ניהנה משלוש שעות של נסיעה בשטח בג'יפים - ובעזרתם נגיע אל אתרים נידחים ומרתקים ונתמה על מות הסברסים\, על שפע המים\, ועוד ועוד.\n\nובין לבין - נשיר ונתעשר.\n\nמה נטעם ?\n\nפיתה דרוזית וכנאפה מתוקה\, ארוחה דרוזית אותנטית של ממולאים\, פטאיר\, ועוד... קדרות מכושפות (גם טבעוניות)\, מרק בצל וארוחות הקסם של תמר.\n\nלוח זמנים (נתון לשינויים קלים):\n\nיום חמישי 14.3.19\n\n07:30 מתל אביב\n\nעצירה להפסקת בוקר עצמאית בקניון יקנעם.\n\nנעצור לתצפית מרהיבה ממצפור בית ציידא\, ביקור לבבי במושב אבני איתן\, בית הכנסת העתיק המחודש בעין קשתות (קנטיר)\, ארוחת צהריים של תמר\, ביקור באניעם ומפגש עם אחד האמנים\, קפה\, התארגנות במלון בוטיק במג'דל שאמס (נלון בשני מלונות סמוכים) ונסעד במסעדת "המכשפה והחלבן".\n\nיום שישי 15.3\n\nתל פארס: תל געשי מרשים הנמצא במזרח הגולן\, היחידי שנשאר עם לוע וולקני שלם בארץ ומכיל מגוון ייחודי של סלעים.\n\nהתל נוקה מפסולת אדירת ממדים ע"י מיזם צבא ההגנה לטבע.\n\nחירבת פרג: כפר צ'רקסי יפה המכיל ברכת חורף גולנית קלאסית אשר מכילה מגוון רב של דו חיים ולוקחת תפקיד חשוב ברצף ברכות החורף בגולן.\n\nקילוח עיט: מפל מרשים של נחל עיט\, הדופן הצפונית של הערוץ הנמצאת בסמוך למפל מכילה חתך גאולוגי מושלם של קילוח לבה והתמצקותו. לא מובטחת זרימה בשל הבצורת.\n\nתצפית אל מאגר עורבים: הסבר על תכנית המאגרים והשפעתם על המערכת האקולוגית.\n\nלאחר ארוחת צהריים דרוזית קלה (פיתה דרוזית\, זיתים\, ירקות וקינוח מתוק) -הליכה קלילה  ביער אודם.\n\nתצפית על בקעת היעפורי: עמקו של נחל סהר עילי\, בעמק חקלאות דרוזית אותנטית של מטעים נשירים\, מבנה הקבר של הנבי הדרוזי נבי יעפורי ושוק דרוזי מקומי.\n\nבאותו הערב - ארוחה בבית פרטי במג'דל שאמס\, שיחה על גלגול נשמות\, ולאחר הארוחה - נצא לסיור ברים עם לילה\, מדריכה דרוזית. מי שירצו להישאר לשתות בברים- מוזמנים.\n\nשבת 16.3\n\nלאחר תצפית מהר כרמים נסייר עם האוטובוס במטעי הדרוזים עם מבט לבית החולים לפצועים סורים והגבול.\n\nנמשיך בטיול ג'יפים רכוב של שלוש שעות בהדרכת אייל גארי: ניסע במורדות הגולן הצפוני\, נתחיל בציר הנפט\, שם נעשה מספר תצפיות והתבוננות על ערוצי הנחלים של "חלונות שמיר": שבר גאולוגי החושף מסלע גירני בלב האזור הבזלתי.\n\nנרד לדרך הפטרולים הישנה שם נעבור בין מעיינות קסומים\, כפרים נטושים ונסיים בתצפית מרהיבה על מעוק נחל חמדל.\n\nנסייר בשטחים הפתוחים של מורדות הגולן בין עצי אלון  ושיזף עם סיכוי טוב לראות חיות בר\n\nניפגש עם בוקר בחוות הבקר של שניר.\n\nאת ארוחת צהריים בצומת וואסט תערוך עבורנו תמר.\n\nולפני שנשוב הביתה – נעיף מבט אל תעלת נ.ט: תפקידן\, ונדבר על המיסלע כמכתיב את פעולות הצבא.\n\nבסביבות ארבע נתחיל בנסיעה דרומה\, הביתה.\n\nשבעים\, מגרגרים ועשירים.\nהמחיר כולל הכל ! לינה\, אוטובוס\, הדרכות\, כניסות\, וארוחות (חוץ מארוחת בוקר ביום הראשון) וכולל טיפים (רק לא כולל טיפ לתמר הנהגת). \nייגבו ביום הטיול עוד 170 ש"ח במזומן\nלמשלמים טלפונית דרך ענת: תוספת של 15 ש"ח על המחיר באתר. ענת: 0523-500666\nהנחה לכל משתתף עבור מי שלנים 3 באותו החדר: 53 שקלים\nתוספת 305 ש"ח עבור יחיד בחדר זוגי.\nביטול: עד 3.3 החזר מלא (בניכוי עמלת ביטול)\nלאחר מכן - החזר חלקי בלבד.\nלקראת יציאתנו לסופשבוע בגולן\,\n\nהנה כמה הוראות אחרונות :\n\nלוח זמנים (נתון לשינויים קלים):   יום חמישי 14.3.19\n\nהאוטובוס – של תמר הנהגת שלנו. בצבע ורוד סגלגל ועליו כתוב : בוריס תורס.\n\nאיסופים : אנא הקדימו לפחות בעשר דקות !\n\n06:50 מלטרון (ליד פונדק אסא)\n\n07:30 מתל אביב (בתחנה הצפונית בתחנות האוטובוס שפניהן צפונה\, לצד "חנה וסע" הסמוך לרכבת סבידור.\n\n07:40 צומת שמריהו-הרצליה\n\n07:55 איקאה\n\n08:15  מחלף אולגה\n\n08:30 צומת פרדיס\n\n08:45 קניון ג'י יקנעם.\n\nשם  נעצור לארוחת בקר עצמאית למשך כחצי שעה.\n\n09:15 נמשיך בדרכנו צפונה\n\nמכאן ואילך – הכל כלול !\n\nארוחת בקר בששי ובשבת – אודיע ערב קודם.\n\nשבת 16.3\n\nבסביבות ארבע נתחיל בנסיעה דרומה\, הביתה.\n\nכספים :\n\nכזכור – על האוטובוס אגבה 170 ₪ במזומן עבור ארוחות של תמר\, מפגשים  וטיפ באחת המסעדות.\n\nמעבר לכך – אני מודה מראש על טיפ לתמר הנהגת.\n\nתחזית כרגע\,  הצטיידות וביגוד :\n\nבחמישי ובשבת צפויים טיפטופים.   בששי צפויה שמש.\n\nזה לא יפריע לנו אם נצטייד כהלכה :\n\nמעיל נגד גשם\, נעליים שאינן חדירות למיים\, נוחות להליכה קלה: סגורות\, שטוחות ולא מוגבהות. אפשר גם מטריה.\n\nמעלות חום וקור :   בלילה : 4-6 מעלות    ביום 15 עד 17.\n\nלינה :\n\nחלק מאיתנו ילונו במלון נרקיס וחלק במלון לגאסי מעבר לכביש. \n\nשני המלונות באותה הרמה.  דאגתי שחברים יישנו באותו המלון.  לצערי גם ארוחות הבקר יהיו בנפרד\, אין די מקום לכולנו יחד בארוחות הבקר.\n\nבקשות מיוחדות :\n\nמבקשת לדעת :\n\nמי רגיש לגלוטן\n\nמי צמחוני\n\n(הארוחות בנויות כך שיתאימו לכולם\, ועם זאת – אני מבקשת לוודא כמויות).\n\nאבקש להפחית מלח בארוחות.\n\nבקשות נוספות ?\n\nאשמח להשיב על כל שאלה.\n\nנתראה בשמחה\,\n\nטלי
URL:https://www.talibs.co.il/event/%d7%96%d7%90%d7%91%d7%99%d7%9d-%d7%91%d7%95%d7%a7%d7%a8-%d7%98%d7%95%d7%a1%d7%a7%d7%a0%d7%94-%d7%94%d7%93%d7%a8%d7%95%d7%96%d7%99%d7%aa-%d7%95%d7%9e%d7%98%d7%a2%d7%9e%d7%99-%d7%94%d7%92%d7%95%d7%9c/
CATEGORIES:אוטובוס מזמר ואירועי גיבוש,אירועים קרובים,המיוחדים של טלי,טיולי משפחות,טיולי סוף שבוע
END:VEVENT
END:VCALENDAR