BEGIN:VCALENDAR
VERSION:2.0
PRODID:-//טלי בצלאל-שושני - שרה ומשחקת בדרך - ECPv4.0.4//NONSGML v1.0//EN
CALSCALE:GREGORIAN
METHOD:PUBLISH
X-WR-CALNAME:טלי בצלאל-שושני - שרה ומשחקת בדרך
X-ORIGINAL-URL:https://www.talibs.co.il
X-WR-CALDESC:Events for טלי בצלאל-שושני - שרה ומשחקת בדרך
BEGIN:VEVENT
DTSTART;VALUE=DATE:20100101
DTEND;VALUE=DATE:20100101
DTSTAMP:20210517T011126
CREATED:20151207
LAST-MODIFIED:20170226
UID:417-1262304000-1262390399@www.talibs.co.il
SUMMARY:"המסך עולה" - שירים מתוך מחזות זמר וסרטים
DESCRIPTION:מבחר צבעוני ומרגש של שירים מוכרים ואהובים מלווים בסיפורים קצרים מתוך סרטים ומחזות זמר:\n\n"קזבלן"\, "כנר על הגג"\, "קונילמל"\, "איש חסיד היה"\, "הלהקה"\, "שתי אצבעות מצידון"\, השוטר אזולאי\, "אל תקרא לי שחור"\, "שלמה המלך ושלמי הסנדלר" וגם "צלילי המוסיקה" ו-"גברתי הנאווה"...\n\nמופע נוסטלגי של התרפקות\, שירה והנאה.\n\nמנחה ושרה: טלי בצלאל-שושני.\n\nקלידים: יוסי כנר\n\nמילות השירים מוקרנות על מסך.\n\n 
URL:https://www.talibs.co.il/event/%d7%94%d7%9e%d7%a1%d7%9a-%d7%a2%d7%95%d7%9c%d7%94-%d7%a9%d7%99%d7%a8%d7%99%d7%9d-%d7%9e%d7%aa%d7%95%d7%9a-%d7%9e%d7%97%d7%96%d7%95%d7%aa-%d7%96%d7%9e%d7%a8-%d7%95%d7%a1%d7%a8%d7%98%d7%99%d7%9d/
CATEGORIES:מופעי זמר
END:VEVENT
END:VCALENDAR