BEGIN:VCALENDAR
VERSION:2.0
PRODID:-//טלי בצלאל-שושני - שרה ומשחקת בדרך - ECPv4.0.4//NONSGML v1.0//EN
CALSCALE:GREGORIAN
METHOD:PUBLISH
X-WR-CALNAME:טלי בצלאל-שושני - שרה ומשחקת בדרך
X-ORIGINAL-URL:https://www.talibs.co.il
X-WR-CALDESC:Events for טלי בצלאל-שושני - שרה ומשחקת בדרך
BEGIN:VEVENT
DTSTART;TZID="UTC+0":20181222T093000
DTEND;TZID="UTC+0":20181222T213000
DTSTAMP:20211004T164641
CREATED:20181205T145632
LAST-MODIFIED:20181216T103602
UID:6327-1545471000-1545514200@www.talibs.co.il
SUMMARY:החג של החגים 22.12.18
DESCRIPTION:טיול\, סעודה ושלוש דתות\n\nשבת\, 22.12.18 טיול חד פעמי !\n\nנתחיל את טיולנו קצת מאוחר\, כדי לחזור קצת מאוחר...\n\nנתחיל בהליכה קצרה ומרעננת בנחל קטיע\, בגשרים התלויים בפרק נשר\, בקרבת העיר חיפה. בפרק חורש ים תיכוני\, שפע פרחי כרמל\, ובעלי חיים. המסלול רחב ונח גם למתקשים בהליכה. אורכו כקילומטר וחצי.\n\nנמשיך אל שפרעם. לגמרי במקרה פגשתי את תוהמה\, עיתונאי בן שפרעם. הוא ייקח אותנו בסמטאות העיר אל סודות מקומיים\, נוכל להיכנס לבתים פרטיים ולחוות את אוירת החג בייחוד שאין דומה לו.\n\nלהשלמת אוירת החג - נסעד ב"סריי" - מסעדה מקומית במבנה אבן קסום\, בתככי העיר העתיקה של שפרעם.\n\nזו לא תהיה ארוחה - אלא סעודה חגיגית !\n\nראו פירוט למטה...\n\nנמשיך אל מנזר סטלה מאריס\, לשמוע על אליהו הנביא ולהשקיף על חיפה מתצפית יפהפייה.\n\nומשם אל כת האחמדיה\, לשמוע איך אפשר להבין את הג'יהאד בדרך אחרת\, כמה מאמינים יש בכת ומה כוחה ?\n\nולקינוח - נקצה זמן ליהנות ממראות המושבה הגרמנית של "החג של החגים" בחיפה\, שתהיה מוארת\, עם ליצנים ובלונים ומוזיקה ברחובות\, קסום !!!\n\nסביבת טיולנו: שפרעם וחיפה רבתי.\n\nתנאי יציאה: מינימום 35 משתתפים.\n\nמחיר: 245 ש"ח לאדם\, כולל סעודה עשירה ועוד 20 ש"ח טיפ במזומן לנהג ובמסעדה.\n\nכלכלה: סעודת צהריים: כלולה\, במסעדת סריי. לא כשר: 12 סוגי סלטים\, עיקרית לבחירה: סינטה\, קבאב\, אנטריקוט\, עוף עם שמנת ופטריות\, חזה עוף על האש\, דניס\, סלמון בתנור. מנות צמחוניות לבחירה: רביולי בשני רטבים\, פסטה פטוצ'יני ברוטב רוזה\, פטריות ברוטב מוקרם\, חציל ברוטב רוזה במילוי גבינה. \n\nהתפריט כולל שתייה קלה.\n\nביטול : עד שבוע לפני היציאה.\n\nלוח זמנים: (יש להקדים לפחות עשר דקות לפני שעת היציאה)\n\n 09:00 יציאה מרחוב יוסף לישנסקי פינת רחוב ההגנה\, סמוך לחניון תחנת הרכבת משה דיין בראשון לציון.  \n\n09:10 איסוף מדרך נמיר\, במקביל ל"חנה וסע" הסמוך לרכבת סבידור. בתחנה הצפונית בין תחנות האוטובוס שפניהן צפונה.  \n\nאיסופים בדרך צפונה (ציר החוף).\n\n10:15 איסוף ברחוב קדושי יאסי ליד מרכז הקונגרסים\, חיפה\n\nלא תהיה עצירה לארוחה / קפה/ שירותים בדרך\n\nחזרה: עד שעה 21:00 בראשון לציון
URL:https://www.talibs.co.il/event/%d7%94%d7%97%d7%92-%d7%a9%d7%9c-%d7%94%d7%97%d7%92%d7%99%d7%9d/
CATEGORIES:אירועים קרובים,המיוחדים של טלי,טיולים לחברות וארגונים
END:VEVENT
END:VCALENDAR