BEGIN:VCALENDAR
VERSION:2.0
PRODID:-//טלי בצלאל-שושני - שרה ומשחקת בדרך - ECPv4.0.4//NONSGML v1.0//EN
CALSCALE:GREGORIAN
METHOD:PUBLISH
X-WR-CALNAME:טלי בצלאל-שושני - שרה ומשחקת בדרך
X-ORIGINAL-URL:https://www.talibs.co.il
X-WR-CALDESC:Events for טלי בצלאל-שושני - שרה ומשחקת בדרך
BEGIN:VEVENT
DTSTART;TZID="UTC+0":20180508T070000
DTEND;TZID="UTC+0":20180508T180000
DTSTAMP:20211004T164458
CREATED:20181217T175231
LAST-MODIFIED:20190307T202544
UID:6450-1525762800-1525802400@www.talibs.co.il
SUMMARY:"גבע(טרון) חרוד בית אלפא"
DESCRIPTION:חגיגת שירים וויכוחים מימי העליה השלישית\n\n"העמק" חוגג מעל 95 ! שנות התיישבות\n\nאיך הכל התחיל ? \n "אל הדרך שוב יצאנו\, דרך ארוכה בלי קץ\n דרך בה רק ילוו אותנו האבק האבן והעץ".\n\nהדרך הייתה נסיעה ארוכה אל ארץ ישראל\, דרך של ויכוחים אידיאולוגיים ומאמץ גופני ורגשי.\n "בית הורים חמים עזבנו אי פעם\, זיכרונות ילדות חלום נעורים\, \n לעולם לא אשכח איך עזבתי את ביתי\, ולדרך אז יצאתי\, לבדי לבדי".\n בארץ מתלקטות קבוצות של חלוצים בעלייה השלישית ומקימות בשנת 1921 את יישובי עמק יזרעאל וחרוד: עין חרוד\, תל יוסף\, גבע ובית אלפא.\n\n "על הגבעה הנעלה /שם תגור פלוגת הגדוד / שם תגור גם רחל היפה/ בת אוקראינה הגאה".\nסיפורים מסעירים אודות אהבות עד מוות\, בגידות ואידיאולוגיה - נספר בבית הקברות הישן של גדעונה\, ונוסיף ונספר על גדוד העבודה\, על יוזם "החלוץ" - אוסיה טרומפלדור\, על החלוצים - שלמה לביא\, יהודה אלמוג\, יצחק טבנקין ואחרים. \n נעמוד בתצפית גבעת קומי - ונגלוש משם לעבר עין חרוד איחוד ומאוחד. נספר על החלוצות ועל הילדים שגדלו לתוך חזון ההתיישבות השיתופית.  \n\nבקיבוץ עין חרוד נשמע על פילוגים סוערים\, חינוך קיבוצי\, סדרי חגים\, ויכוחים אידיאולוגיים ויצירה מרתקת של שירים\, ספרות ומחול.\n אל בית אלפא נביט מן המחצבה\, ונספר ונשיר מעלילות הימים ההם.\n\nלסיום - נגיע אל מוזיאון קטן ולא מוכר בקיבוץ גבע - העוסק בקיבוץ בראשיתו וגם בגבעטרון !\n "כי אמתית היא ולא סמל ולא דגל ולא אות / העבר מאחוריה - היא צופה אל הבאות".\n\nטיול מלא תוכן\, מלא שירים\, טיול של סיפורים והתרגשות רבה.\n\nמדריכה: טלי בצלאל - שושני  משחקת ושרה בליווי הגיטרה \n\nהמחיר: 150 ש"ח למשתתף במינימום 30 איש ועוד במזומן עבור מוזיאון הגבעטרון - 15 ש"ח לאדם  \n\nכלכלה: ארוחות עצמיות (מהבית או לקנות)\n\nארוחת בקר עצמית במגידו. ארוחת צהריים עצמית בצומת עין חרוד (מסעדה מזרחית לא כשרה או שולחנות קק"ל).\n\n07:00 יציאה מלטרון \n\n07:50 בתחנה הצפונית במפרץ האוטובוסים שפניהם צפונה על דרך נמיר\, לצד "חנה וסע" הסמוך לרכבת סבידור\n\nאיסופים בדרך צפונה לפי הביקוש.\n\nשעת חזרה משוערת: 18:00 בלטרון\n\nביטול: עד שבוע לפני היציאה
URL:https://www.talibs.co.il/event/%d7%92%d7%91%d7%a2%d7%98%d7%a8%d7%95%d7%9f-%d7%97%d7%a8%d7%95%d7%93-%d7%91%d7%99%d7%aa-%d7%90%d7%9c%d7%a4%d7%90/
CATEGORIES:אירועים קרובים,המיוחדים של טלי,טיולים לחברות וארגונים
END:VEVENT
END:VCALENDAR