BEGIN:VCALENDAR
VERSION:2.0
PRODID:-//טלי בצלאל-שושני - שרה ומשחקת בדרך - ECPv4.0.4//NONSGML v1.0//EN
CALSCALE:GREGORIAN
METHOD:PUBLISH
X-WR-CALNAME:טלי בצלאל-שושני - שרה ומשחקת בדרך
X-ORIGINAL-URL:https://www.talibs.co.il
X-WR-CALDESC:Events for טלי בצלאל-שושני - שרה ומשחקת בדרך
BEGIN:VEVENT
DTSTART;VALUE=DATE:20100101
DTEND;VALUE=DATE:20100101
DTSTAMP:20210517T011153
CREATED:20151209
LAST-MODIFIED:20170226
UID:523-1262304000-1262390399@www.talibs.co.il
SUMMARY:"איפה היינו ומה עשינו"
DESCRIPTION:מקבץ של שירי נוסטלגיה מחויכים\, שירי הטנגו הגדולים\, שירי תנועות הנוער ושירי רחוב נועזים ואפילו מקבץ פרסומות רדיו מהימים ההם\, משולבים בסיפורים משעשעים על השירים וכותביהם.\nנעלה נשכחות עם שירי הטנגו של בובי פנחסי\, נשמע מי היה "האיש שבקיר"\, מה קרה ל"דינה ברזילי" לאחר שהשתחררה ונישאה לאיש ואיך הפך שיר צרפתי על מנקב כרטיסים לשיר על סיירים ועל מוהלים ולבסוף - גם על מועלים... סיפורים היתוליים וסיפורים נשכחים לצד שירי התרפקות וחיוך.\nמילות השירים מוקרנות על-גבי מסך!
URL:https://www.talibs.co.il/event/%d7%90%d7%99%d7%a4%d7%94-%d7%94%d7%99%d7%99%d7%a0%d7%95-%d7%95%d7%9e%d7%94-%d7%a2%d7%a9%d7%99%d7%a0%d7%95/
CATEGORIES:מופעי זמר
END:VEVENT
END:VCALENDAR