BEGIN:VCALENDAR
VERSION:2.0
PRODID:-//טלי בצלאל-שושני - שרה ומשחקת בדרך - ECPv4.0.4//NONSGML v1.0//EN
CALSCALE:GREGORIAN
METHOD:PUBLISH
X-WR-CALNAME:טלי בצלאל-שושני - שרה ומשחקת בדרך
X-ORIGINAL-URL:https://www.talibs.co.il
X-WR-CALDESC:Events for טלי בצלאל-שושני - שרה ומשחקת בדרך
BEGIN:VEVENT
DTSTART;VALUE=DATE:20160204
DTEND;VALUE=DATE:20160204
DTSTAMP:20210520T144231
CREATED:20160119
LAST-MODIFIED:20160208
UID:1333-1454544000-1454630399@www.talibs.co.il
SUMMARY:אדום - "פורחות ולוחמות"
DESCRIPTION:\n\tביקור בניצנים עם סיפורן של הנשים הלוחמות.\n\tמפגש עם רינה הברון בת ה- 90 ממקימות בארי.\n\tביקור בקבר הבבא-סאלי בנתיבות.\n\tסיור אדום במרבדי הפריחה השופעים בכלניות.\n\n\n\tיציאה ב- 07:30 מהר הרצל\, ירושלים\, 08:10 מלטרון.\n\tהפסקת בוקר בביג\, אשדוד.\n\tחזרה משוערת ב- 19:00 לירושלים.\n\tכלכלה: עצמית\, ניתן לקנות אוכל בנקודות העצירה.\n\tנעליים שטוחות ולא מוגבהות. לפחות 2 ליטר מי שתייה.\n
URL:https://www.talibs.co.il/event/%d7%90%d7%93%d7%95%d7%9d-%d7%a4%d7%95%d7%a8%d7%97%d7%95%d7%aa-%d7%95%d7%9c%d7%95%d7%97%d7%9e%d7%95%d7%aa-4216/
LOCATION:ניצנים
CATEGORIES:אירועים קרובים,סדרת טיולי נשים
END:VEVENT
END:VCALENDAR